BEGIN:VCALENDAR
VERSION:2.0
PRODID:-//Interreg.no - ECPv6.14.2//NONSGML v1.0//EN
CALSCALE:GREGORIAN
METHOD:PUBLISH
X-WR-CALNAME:Interreg.no
X-ORIGINAL-URL:https://interreg.no
X-WR-CALDESC:Arrangement for Interreg.no
REFRESH-INTERVAL;VALUE=DURATION:PT1H
X-Robots-Tag:noindex
X-PUBLISHED-TTL:PT1H
BEGIN:VTIMEZONE
TZID:Europe/Oslo
BEGIN:DAYLIGHT
TZOFFSETFROM:+0100
TZOFFSETTO:+0200
TZNAME:CEST
DTSTART:20230326T010000
END:DAYLIGHT
BEGIN:STANDARD
TZOFFSETFROM:+0200
TZOFFSETTO:+0100
TZNAME:CET
DTSTART:20231029T010000
END:STANDARD
END:VTIMEZONE
BEGIN:VEVENT
DTSTART;TZID=Europe/Oslo:20231009T080000
DTEND;TZID=Europe/Oslo:20231012T170000
DTSTAMP:20260420T204246
CREATED:20230907T131420Z
LAST-MODIFIED:20230907T132650Z
UID:16417-1696838400-1697130000@interreg.no
SUMMARY:ESPON: European Week of Regions and Cities
DESCRIPTION:Foto: ESPON European Week\n			ESPON European Week\n\n\n\nThe European Week of Regions and Cities -the most important event on EU Regional Policy- is back with on site sessions!  \n\n\n\nBetween 09-12 October 2023 more than 200 meetings\, talks\, events and trainings will take place in Brussels. As always\, ESPON is present in a number of sessions organised by the EGTC\, stakeholders or projects that are presenting their results and evidence. You can review all our sessions\, select from the list below and register online. \n\n\n\nPÅMELDING
URL:https://interreg.no/kalender/espon-european-week-of-regions-and-cities/
CATEGORIES:Arrangement
ATTACH;FMTTYPE=image/jpeg:https://files.nettsteder.regjeringen.no/wpuploads01/sites/518/2023/09/Skjermbilde-2023-09-07-151051.jpg
END:VEVENT
BEGIN:VEVENT
DTSTART;TZID=Europe/Oslo:20231018T083000
DTEND;TZID=Europe/Oslo:20231018T151500
DTSTAMP:20260420T204246
CREATED:20231012T112608Z
LAST-MODIFIED:20231012T113605Z
UID:16758-1697617800-1697642100@interreg.no
SUMMARY:SAIL-konferansen 2023
DESCRIPTION:Foto: SAIL\n			\n\n\nVästra Värmland og Kongsvingerregionen jobber sammen for å minske ungt utenforskap.Vi inviterer til en inspirerende konferanse for deg som jobber med unge som står utenfor arbeidslivet\, eller ønsker å bidra til økt inkludering. \n\n\nSTED\n\n\n\nHotell Charlottenberg\, Charlottenbergsvägen 2 \n\n\n\nTID\n\n\n\nOnsdag 18. oktober 2023\, klokken 08:30 til 15:15 \n\n\n\n \n\n\n\n\n\nInterreg Sverige-Norge
URL:https://interreg.no/kalender/sail-konferansen-2023/
CATEGORIES:Arrangement
ATTACH;FMTTYPE=image/png:https://files.nettsteder.regjeringen.no/wpuploads01/sites/518/2023/10/Skjermbilde-2023-10-12-132136.png
END:VEVENT
END:VCALENDAR