BEGIN:VCALENDAR
VERSION:2.0
PRODID:-//Interreg.no - ECPv6.14.2//NONSGML v1.0//EN
CALSCALE:GREGORIAN
METHOD:PUBLISH
X-WR-CALNAME:Interreg.no
X-ORIGINAL-URL:https://interreg.no
X-WR-CALDESC:Arrangement for Interreg.no
REFRESH-INTERVAL;VALUE=DURATION:PT1H
X-Robots-Tag:noindex
X-PUBLISHED-TTL:PT1H
BEGIN:VTIMEZONE
TZID:Europe/Oslo
BEGIN:DAYLIGHT
TZOFFSETFROM:+0100
TZOFFSETTO:+0200
TZNAME:CEST
DTSTART:20240331T010000
END:DAYLIGHT
BEGIN:STANDARD
TZOFFSETFROM:+0200
TZOFFSETTO:+0100
TZNAME:CET
DTSTART:20241027T010000
END:STANDARD
END:VTIMEZONE
BEGIN:VEVENT
DTSTART;TZID=Europe/Oslo:20240910T080000
DTEND;TZID=Europe/Oslo:20240912T170000
DTSTAMP:20260422T190959
CREATED:20240614T113137Z
LAST-MODIFIED:20240620T104352Z
UID:18461-1725955200-1726160400@interreg.no
SUMMARY:Stort norsk ESPON seminar om lokal samfunnsutvikling
DESCRIPTION:Slipp kreftene fri i små lokalsamfunn\n\n\n10.-12. september kan du delta på et stort seminar om potensialene til lokalsamfunn i Norge og i hele Europa. \n\n\n\n				\n				Foto: Jonas Sjøgren\, Destinasjon Trysil\n			Dronebilde over Sundetbrua i Trysil. Foto: Jonas Sjøgren\, Destinasjon Trysil\n\n\n\nSeminaroversikt\n\n\n\nSeminaret «Unleashing the potential of Small Places» inviterer politikere\, forvaltning og forskere til å dele sine erfaringer\, lære av hverandre og diskutere nye løsninger for å frigjøre potensialet i mindre lokalsamfunn. Det arrangeres i regi av ESPON. \n\n\n\nSeminaret vil legge til rette for diskusjoner og refleksjoner gjennom plenum- og parallelle verksteder\, hvor deltakerne vil utforske og diskutere følgende temaer i dybden: \n\n\n\n\nKompetanseutvikling og talenttiltrekning\n\n\n\nInnovasjon og entreprenørskap\n\n\n\nLivskvalitet i små steder\n\n\n\nFlernivåstyring og kapasitetsbygging\n\n\n\n\nDeltakerne vil identifisere og diskutere barrierer og muligheter i forhold til hvert tema\, dvs. utforske hvilke tilnærminger\, politiske eller andre\, i rurale områder som har fungert bra\, ikke så bra\, og hvorfor\, med formål om å fremme forslag til fremtidig kontekst- og stedsbasert politikkutvikling. \n\n\n\nResultatene fra verkstedene vil bli oppsummert og publisert. \n\n\n\nDet vil bli satt opp buss fra Oslo Lufthavn Gardermoen til og fra Trysil. Seminaret vil gjennomføres i vakre omgivelser. \n\n\n\nSeminaret er også en oppfølging av prosjektet Small Places Matter under Territorial Agenda 2030 | A future for all places. \n\n\n\n\n\n\n\nLast ned Program for seminaret \n\n\n\nLast ned veileder Small Places Guideline Workshop\n\n\n\n \n\n\n\nLes mer og last ned program og veiledning her. \n\n\n\nPåmelding \n\n\n\nDu kan melde deg på via denne lenken: Registration \n\n\n\nHotell kan bestilles her: Booking hotel  \n\n\n\nBruk koden: INNFYLK  \n\n\n\nSpørsmål om seminaret kan rettes til Innlandet fylkeskommune ved: \n\n\n\nErik Hagen+47 95 20 52 96erihag@innlandetfylke.no \n\n\n\nBakgrunn\n\n\n\nEuropas globale konkurranseevne synker\n\n\n\nDen globale konkurranseevnen til Europa har gradvis sunket de siste tiårene. I 1991 utgjorde EU’s BNP over 25% av verdens totale BNP mens dette tallet i 2022 hadde falt til under 17%. \n\n\n\nVanligvis blir større byområder sett på som motorer for de regionale og nasjonale økonomiene\, og får derfor mye oppmerksomhet fra kapitalinvestorer\, politikere og media. De mindre og mer perifere delene av Europa blir imidlertid ofte sett på som mindre muligheter og får derfor mindre oppmerksomhet. \n\n\n\nLikevel\, gitt at store deler av den europeiske befolkningen bor i perifere områder\, er det viktig å utforske og finne nye måter å tenke på når det gjelder hvordan små steder blir sett og utviklet. Økt fokus på å identifisere og utnytte potensialet i små steder vil sannsynligvis styrke deres konkurranseevne og nasjonale rolle\, og vil også være til fordel for Europa som helhet. \n\n\n\nSmå steder som utfordrer oppfatningen\n\n\n\nDet finnes mange eksempler på utvikling i små steder som utfordrer oppfatningen av «steder som ikke betyr noe». For eksempel ble IKEA\, Inditex og BioNTech-vaksinen utviklet på små eller mellomstore steder noe som tilfører nyanser til inntrykket av små steder. \n\n\n\nØkt evne hos kunnskapsintensive bedrifter i små\, perifere områder til å konkurrere på store\, fjerne markeder har også blitt fremhevet i nyere forskning. Dette viser en evne til å kompensere for lokale ulemper. \n\n\n\nUtviklingen av fjernarbeid utvider også potensialet for folk til å arbeide og bo i mindre steder. Utviklingspotensialene finnes derfor i små steder\, selv om de kan variere mellom regioner. Identifisering og utvikling av kontekst- og stedsbaserte løsninger og strategier er derfor nødvendig. \n\n\n\nDen europeiske territorielle agendaen 2030\n\n\n\nDen europeiske territorielle agendaen 2030 – En fremtid for alle steder legger vekt på betydningen av lokalt strategisk planarbeid og oppfordrer til å styrke den territorielle dimensjonen av sektorpolitikker på alle styringsnivåer. Den søker å fremme en inkluderende og bærekraftig fremtid for alle steder. TA2030 følges konkret opp av pilotprosjekter. Ett av disse\, «Small Places Matter»\, ble ledet av Norge ved Kommunal- og distriktsdepartementet. En nøkkel til framgang for små steder er å koble lokale initiativer med gode planprosesser.
URL:https://interreg.no/kalender/espon-slipp-kreftene-fri-i-sma-lokalsamfunn/
CATEGORIES:Arrangement
ATTACH;FMTTYPE=image/jpeg:https://files.nettsteder.regjeringen.no/wpuploads01/sites/518/2024/06/Drone_fra_sundetbrua_LL_05278_1920-Jonas-Sjogren-Destinasjon-Trysil.jpg
END:VEVENT
END:VCALENDAR