BEGIN:VCALENDAR
VERSION:2.0
PRODID:-//Interreg.no - ECPv6.14.2//NONSGML v1.0//EN
CALSCALE:GREGORIAN
METHOD:PUBLISH
X-WR-CALNAME:Interreg.no
X-ORIGINAL-URL:https://interreg.no
X-WR-CALDESC:Arrangement for Interreg.no
REFRESH-INTERVAL;VALUE=DURATION:PT1H
X-Robots-Tag:noindex
X-PUBLISHED-TTL:PT1H
BEGIN:VTIMEZONE
TZID:Europe/Oslo
BEGIN:DAYLIGHT
TZOFFSETFROM:+0100
TZOFFSETTO:+0200
TZNAME:CEST
DTSTART:20230326T010000
END:DAYLIGHT
BEGIN:STANDARD
TZOFFSETFROM:+0200
TZOFFSETTO:+0100
TZNAME:CET
DTSTART:20231029T010000
END:STANDARD
END:VTIMEZONE
BEGIN:VEVENT
DTSTART;TZID=Europe/Oslo:20231129T120000
DTEND;TZID=Europe/Oslo:20231130T120000
DTSTAMP:20260420T190233
CREATED:20230814T083446Z
LAST-MODIFIED:20230929T105442Z
UID:16243-1701259200-1701345600@interreg.no
SUMMARY:Nordsjøkonferansen
DESCRIPTION:North Sea Conference 2023\n\n\n\n\n				\n				Foto: Image: Markus Thoenen via Canv﻿a.com\n			\n\n\n\nThe main conference will start with a welcome dinner on 29 November and be followed by study visits and a plenary session on 30 November. \n\n\n\nIn connection to the conference\, The North Sea Commission and Straits Committee will also hold different events on the 29 November\, including their Executive Committee meetings. \n\n\n\nThe conference is jointly hosted by the City of Rotterdam\, Province of South Holland\, the North Sea Commission and supported by the North Sea Programme. \n\n\n\nWatch this space! More information about the event and a registration link to follow in the early autumn. 
URL:https://interreg.no/kalender/norssjokonferansen/
LOCATION:Rotterdam\, the Netherlands
CATEGORIES:Arrangement
ATTACH;FMTTYPE=image/jpeg:https://files.nettsteder.regjeringen.no/wpuploads01/sites/518/2023/08/Skjermbilde-2023-08-14-103038.jpg
END:VEVENT
END:VCALENDAR