BEGIN:VCALENDAR
VERSION:2.0
PRODID:-//Interreg.no - ECPv6.14.2//NONSGML v1.0//EN
CALSCALE:GREGORIAN
METHOD:PUBLISH
X-ORIGINAL-URL:https://interreg.no
X-WR-CALDESC:Arrangement for Interreg.no
REFRESH-INTERVAL;VALUE=DURATION:PT1H
X-Robots-Tag:noindex
X-PUBLISHED-TTL:PT1H
BEGIN:VTIMEZONE
TZID:Europe/Oslo
BEGIN:DAYLIGHT
TZOFFSETFROM:+0100
TZOFFSETTO:+0200
TZNAME:CEST
DTSTART:20230326T010000
END:DAYLIGHT
BEGIN:STANDARD
TZOFFSETFROM:+0200
TZOFFSETTO:+0100
TZNAME:CET
DTSTART:20231029T010000
END:STANDARD
END:VTIMEZONE
BEGIN:VEVENT
DTSTART;TZID=Europe/Oslo:20231123T080000
DTEND;TZID=Europe/Oslo:20231123T170000
DTSTAMP:20260420T204352
CREATED:20230928T144822Z
LAST-MODIFIED:20231002T095750Z
UID:16624-1700726400-1700758800@interreg.no
SUMMARY:NPA: Nordnorske Europadager
DESCRIPTION:Nordnorske Europadager 2023\n\n\n\n \n\n\n\nÅrets Nordnorske Europadager vil bestå av tre begivenhetsrike dager som skal fokusere på framtida i nord\, skape engasjement og heve kunnskapsnivået med en europeisk rød tråd gjennom det hele. Det vil være ulike workshops\, seminarer og debatter med mål om å gi faglig påfyll om EU og skape engasjement og interesse for å bedre utnytte mulighetene som EØS-avtalen gir. \n\n\n\nGjennom Nordnorske Europadager ønsker vi å vekke engasjement for Europa og mulighetene som finnes for nordnorske aktører her på kontinentet. Handlingsrommet i EU er på langt nær utfylt\, og store endringer i EUs politiske ambisjoner gjør at Europa og EU er og blir viktigere for regionen i årene fremover. Det åpner for at Nord-Norge kan ta enda større plass enn vi gjør i dag. Men for å komme dit trenger vi mer kunnskap og kompetanse om mulighetene som finnes. \n\n\n\nHva\, når?\n\n\n\nArrangementet er spredt over tre dager i tre nordnorske byer og har som mål å skape engasjement\, heve kunnskapsnivået og fokusere på fremtida i nord.  Det hele skjer i Vadsø 31. oktober\, Tromsø 2. november\, og Mo i Rana 23. november. \n\n\n\nFølg med for mer informasjon!\n\n\n\nDet vil være en heldags begivenhet med en rekke ulike workshops\, seminarer og debatter med mål om å gi faglig påfyll om EU og skape engasjement og interesse for å bedre utnytte mulighetene som EØS-avtalen gir.  \n\n\n\n\nPROGRAM\n\n\n\n\n \n\n\n\n\nPÅMELDING\n\n\n\n\nKontakt\n\n\n\nVil du ha mer informasjon om Nordnorske Europadager? Send epost til tina@northnorway.org og janni@northnorway.org. 
URL:https://interreg.no/kalender/npa-nordnorske-europadager/
CATEGORIES:Arrangement
ATTACH;FMTTYPE=image/png:https://files.nettsteder.regjeringen.no/wpuploads01/sites/518/2023/09/nordnorske-europadager-2023-annonsering-banner-landskap-facebook-forsidebilde.png
END:VEVENT
END:VCALENDAR