BEGIN:VCALENDAR
VERSION:2.0
PRODID:-//Interreg.no - ECPv6.14.2//NONSGML v1.0//EN
CALSCALE:GREGORIAN
METHOD:PUBLISH
X-WR-CALNAME:Interreg.no
X-ORIGINAL-URL:https://interreg.no
X-WR-CALDESC:Arrangement for Interreg.no
REFRESH-INTERVAL;VALUE=DURATION:PT1H
X-Robots-Tag:noindex
X-PUBLISHED-TTL:PT1H
BEGIN:VTIMEZONE
TZID:Europe/Oslo
BEGIN:DAYLIGHT
TZOFFSETFROM:+0100
TZOFFSETTO:+0200
TZNAME:CEST
DTSTART:20230326T010000
END:DAYLIGHT
BEGIN:STANDARD
TZOFFSETFROM:+0200
TZOFFSETTO:+0100
TZNAME:CET
DTSTART:20231029T010000
END:STANDARD
END:VTIMEZONE
BEGIN:VEVENT
DTSTART;TZID=Europe/Oslo:20230614T080000
DTEND;TZID=Europe/Oslo:20230615T170000
DTSTAMP:20260421T050114
CREATED:20230331T094402Z
LAST-MODIFIED:20230809T073405Z
UID:15873-1686729600-1686848400@interreg.no
SUMMARY:ESPON: ESPON week om Grønn industrialisering
DESCRIPTION:ESPON week 14. – 15. juni 2023 arrangeres av Sverige som har formannskapet i EUs Råd dette halvåret. Tema for årets ESPON week er «grønn industrialisering\,» koplet til FNs Agenda 2030 for bærekraftig utvikling.  \n\n\n\nFra regionene Norrbotten og Västerbotten får vi blant annet presentert storskala karbonnøytral stålproduksjon\, produksjon av fossilfri mineralgjødsel og biobrensel for luftfarten.  \n\n\n\n\n\n \n\n\n\n\nPåmelding\n\n\n\n\nKontakt\n\n\n\nErik Hagen\n\n\n\nInnlandet fylkeskommune \n\n\n\n+47 95 20 52 96 \n\n\n\nerik.hagen@innlandetfylke.no \n\n\n\nNajonalt kontaktpunkt for ESPON
URL:https://interreg.no/kalender/espon-espon-week-om-gronn-industrialisering/
CATEGORIES:Arrangement
ATTACH;FMTTYPE=image/jpeg:https://files.nettsteder.regjeringen.no/wpuploads01/sites/518/2023/03/Lulea-Sverige.jpg
END:VEVENT
END:VCALENDAR